BEGIN:VCALENDAR
VERSION:2.0
PRODID:-//jEvents 2.0 for Joomla//EN
CALSCALE:GREGORIAN
METHOD:PUBLISH
BEGIN:VTIMEZONE
TZID:America/New_York
BEGIN:STANDARD
DTSTART:20211107T010000
RDATE:20220313T030000
TZOFFSETFROM:-0400
TZOFFSETTO:-0500
TZNAME:America/New_York EST
END:STANDARD
BEGIN:STANDARD
DTSTART:20221106T010000
RDATE:20230312T030000
TZOFFSETFROM:-0400
TZOFFSETTO:-0500
TZNAME:America/New_York EST
END:STANDARD
BEGIN:STANDARD
DTSTART:20231105T010000
RDATE:20240310T030000
TZOFFSETFROM:-0400
TZOFFSETTO:-0500
TZNAME:America/New_York EST
END:STANDARD
BEGIN:STANDARD
DTSTART:20241103T010000
RDATE:20250309T030000
TZOFFSETFROM:-0400
TZOFFSETTO:-0500
TZNAME:America/New_York EST
END:STANDARD
BEGIN:STANDARD
DTSTART:20251102T010000
RDATE:20260308T030000
TZOFFSETFROM:-0400
TZOFFSETTO:-0500
TZNAME:America/New_York EST
END:STANDARD
BEGIN:STANDARD
DTSTART:20261101T010000
RDATE:20270314T030000
TZOFFSETFROM:-0400
TZOFFSETTO:-0500
TZNAME:America/New_York EST
END:STANDARD
BEGIN:STANDARD
DTSTART:20271107T010000
RDATE:20280312T030000
TZOFFSETFROM:-0400
TZOFFSETTO:-0500
TZNAME:America/New_York EST
END:STANDARD
BEGIN:STANDARD
DTSTART:20281105T010000
RDATE:20290311T030000
TZOFFSETFROM:-0400
TZOFFSETTO:-0500
TZNAME:America/New_York EST
END:STANDARD
BEGIN:DAYLIGHT
DTSTART:20211003T190000
RDATE:20211107T010000
TZOFFSETFROM:-0500
TZOFFSETTO:-0400
TZNAME:America/New_York EDT
END:DAYLIGHT
BEGIN:DAYLIGHT
DTSTART:20220313T030000
RDATE:20221106T010000
TZOFFSETFROM:-0500
TZOFFSETTO:-0400
TZNAME:America/New_York EDT
END:DAYLIGHT
BEGIN:DAYLIGHT
DTSTART:20230312T030000
RDATE:20231105T010000
TZOFFSETFROM:-0500
TZOFFSETTO:-0400
TZNAME:America/New_York EDT
END:DAYLIGHT
BEGIN:DAYLIGHT
DTSTART:20240310T030000
RDATE:20241103T010000
TZOFFSETFROM:-0500
TZOFFSETTO:-0400
TZNAME:America/New_York EDT
END:DAYLIGHT
BEGIN:DAYLIGHT
DTSTART:20250309T030000
RDATE:20251102T010000
TZOFFSETFROM:-0500
TZOFFSETTO:-0400
TZNAME:America/New_York EDT
END:DAYLIGHT
BEGIN:DAYLIGHT
DTSTART:20260308T030000
RDATE:20261101T010000
TZOFFSETFROM:-0500
TZOFFSETTO:-0400
TZNAME:America/New_York EDT
END:DAYLIGHT
BEGIN:DAYLIGHT
DTSTART:20270314T030000
RDATE:20271107T010000
TZOFFSETFROM:-0500
TZOFFSETTO:-0400
TZNAME:America/New_York EDT
END:DAYLIGHT
BEGIN:DAYLIGHT
DTSTART:20280312T030000
RDATE:20281105T010000
TZOFFSETFROM:-0500
TZOFFSETTO:-0400
TZNAME:America/New_York EDT
END:DAYLIGHT
END:VTIMEZONE
BEGIN:VEVENT
UID:6970d9080e2597e29b500fe87808feaf
CATEGORIES:Registration Required
CREATED:19691231T190000
SUMMARY:Racing Meeting (In-Door)
LOCATION:4-H Center Gym
DESCRIPTION:<p>Meetings consist of a 15 min business meeting followed by 1 full set of 
 races.</p><p>Track is set-up/Taken down each night - participation by membe
 rs/parents in attendance is required.</p><p>We will try and end at 9pm, how
 ever, sometimes the meetings run over.  The meeting is done when all races 
 are complete and the track is cleaned up.</p>
X-EXTRAINFO:Registration Required
DTSTAMP:20260423T230735
DTSTART;TZID=America/New_York:20221004T190000
DTEND;TZID=America/New_York:20221004T210000
SEQUENCE:0
RRULE:FREQ=MONTHLY;UNTIL=20240619T000000Z;INTERVAL=1;BYDAY=+1TU,+3TU,+5TU
TRANSP:OPAQUE
END:VEVENT
BEGIN:VEVENT
UID:6970d9080e2597e29b500fe87808feaf
CATEGORIES:Registration Required
CREATED:20231002T110953
SUMMARY:NO RACING - GYM CLOSED TO VOTING
LOCATION:4-H Center Gym
DESCRIPTION:<p>No meeting!</p>
URL;VALUE=URI:https://rccar4h.org/clubinfotop/meeting-dates/eventdetail/277/-/no-racing-g
 ym-closed-to-voting?tmpl=component
X-EXTRAINFO:Registration Required
DTSTAMP:20260423T230735
DTSTART;TZID=America/New_York:20231107T190000
DTEND;TZID=America/New_York:20231107T210000
RECURRENCE-ID;TZID=America/New_York:20231107T190000
SEQUENCE:0
TRANSP:OPAQUE
END:VEVENT
END:VCALENDAR