BEGIN:VCALENDAR
VERSION:2.0
PRODID:-//jEvents 2.0 for Joomla//EN
CALSCALE:GREGORIAN
METHOD:PUBLISH
BEGIN:VTIMEZONE
TZID:America/New_York
BEGIN:STANDARD
DTSTART:20241103T010000
RDATE:20250309T030000
TZOFFSETFROM:-0400
TZOFFSETTO:-0500
TZNAME:America/New_York EST
END:STANDARD
BEGIN:STANDARD
DTSTART:20251102T010000
RDATE:20260308T030000
TZOFFSETFROM:-0400
TZOFFSETTO:-0500
TZNAME:America/New_York EST
END:STANDARD
BEGIN:STANDARD
DTSTART:20261101T010000
RDATE:20270314T030000
TZOFFSETFROM:-0400
TZOFFSETTO:-0500
TZNAME:America/New_York EST
END:STANDARD
BEGIN:STANDARD
DTSTART:20271107T010000
RDATE:20280312T030000
TZOFFSETFROM:-0400
TZOFFSETTO:-0500
TZNAME:America/New_York EST
END:STANDARD
BEGIN:STANDARD
DTSTART:20281105T010000
RDATE:20290311T030000
TZOFFSETFROM:-0400
TZOFFSETTO:-0500
TZNAME:America/New_York EST
END:STANDARD
BEGIN:DAYLIGHT
DTSTART:20240915T190000
RDATE:20241103T010000
TZOFFSETFROM:-0500
TZOFFSETTO:-0400
TZNAME:America/New_York EDT
END:DAYLIGHT
BEGIN:DAYLIGHT
DTSTART:20250309T030000
RDATE:20251102T010000
TZOFFSETFROM:-0500
TZOFFSETTO:-0400
TZNAME:America/New_York EDT
END:DAYLIGHT
BEGIN:DAYLIGHT
DTSTART:20260308T030000
RDATE:20261101T010000
TZOFFSETFROM:-0500
TZOFFSETTO:-0400
TZNAME:America/New_York EDT
END:DAYLIGHT
BEGIN:DAYLIGHT
DTSTART:20270314T030000
RDATE:20271107T010000
TZOFFSETFROM:-0500
TZOFFSETTO:-0400
TZNAME:America/New_York EDT
END:DAYLIGHT
BEGIN:DAYLIGHT
DTSTART:20280312T030000
RDATE:20281105T010000
TZOFFSETFROM:-0500
TZOFFSETTO:-0400
TZNAME:America/New_York EDT
END:DAYLIGHT
END:VTIMEZONE
BEGIN:VEVENT
UID:2cb45b589ba8d302267a88470163ba16
CATEGORIES:Registration Required
CREATED:19691231T190000
SUMMARY:Racing Meeting (In-Door)
LOCATION:4-H Center Gym
DESCRIPTION:Meetings consist of a 15 min business meeting followed by 1 full set of rac
 es.\nTrack is set-up/Taken down each night - participation by members/paren
 ts in attendance is required.\nWe will try and end at 9pm, however, sometim
 es the meetings run over.  The meeting is done when all races are complete 
 and the track is cleaned up.\n
X-ALT-DESC;FMTTYPE=text/html:<p>Meetings consist of a 15 min business meeting followed by 1 full set of 
 races.</p><p>Track is set-up/Taken down each night - participation by membe
 rs/parents in attendance is required.</p><p>We will try and end at 9pm, how
 ever, sometimes the meetings run over.  The meeting is done when all races 
 are complete and the track is cleaned up.</p>
X-EXTRAINFO:Registration Required
DTSTAMP:20260423T230052
DTSTART;TZID=America/New_York:20250916T190000
DTEND;TZID=America/New_York:20250916T210000
SEQUENCE:0
RRULE:FREQ=MONTHLY;UNTIL=20260630T000000Z;INTERVAL=1;BYDAY=+1TU,+3TU,+5TU
EXDATE;TZID=America/New_York:20251104T190000,20251230T190000
TRANSP:OPAQUE
END:VEVENT
END:VCALENDAR